BEGIN:VCALENDAR
VERSION:2.0
PRODID:-//DIGITAL FACTORY//EVENTS MAKER V1.6.14//EN
CALSCALE:GREGORIAN
BEGIN:VEVENT
DTEND:20260419
UID:69e656af18c21
DTSTAMP:20260420T163911Z
DESCRIPTION:Join us for the 30th Annual Western NY Homebrew Competition - Amber Waves of Grain. Details will be available soon.  Start brewing NOW!
URL;VALUE=URI:https://niagarabrewers.org/events/event/amber-waves-of-grain-homebrew-competition/
SUMMARY:Amber Waves of Grain Homebrew Competition
DTSTART:20260417
END:VEVENT
END:VCALENDAR
